BEGIN:VCALENDAR
VERSION:2.0
PRODID:-//Louisfert - ECPv5.5.0.1//NONSGML v1.0//EN
CALSCALE:GREGORIAN
METHOD:PUBLISH
X-WR-CALNAME:Louisfert
X-ORIGINAL-URL:https://www.louisfert.fr
X-WR-CALDESC:Événements pour Louisfert
BEGIN:VTIMEZONE
TZID:Europe/Paris
BEGIN:DAYLIGHT
TZOFFSETFROM:+0100
TZOFFSETTO:+0200
TZNAME:CEST
DTSTART:20260329T010000
END:DAYLIGHT
BEGIN:STANDARD
TZOFFSETFROM:+0200
TZOFFSETTO:+0100
TZNAME:CET
DTSTART:20261025T010000
END:STANDARD
END:VTIMEZONE
BEGIN:VEVENT
DTSTART;VALUE=DATE:20260331
DTEND;VALUE=DATE:20260401
DTSTAMP:20260424T073531
CREATED:20220331T080823Z
LAST-MODIFIED:20260325T080726Z
UID:2119-1774915200-1775001599@www.louisfert.fr
SUMMARY:Réunion du Conseil Municipal
DESCRIPTION:le mardi 31 mars 2026 à 19h00 en Mairie\n \nhttps://www.louisfert.fr/?page_id=1649 \n 
URL:https://www.louisfert.fr/evenement/reunion-du-conseil-municipal/
END:VEVENT
BEGIN:VEVENT
DTSTART;VALUE=DATE:20260404
DTEND;VALUE=DATE:20260407
DTSTAMP:20260424T073531
CREATED:20220315T090000Z
LAST-MODIFIED:20260330T093713Z
UID:2074-1775260800-1775519999@www.louisfert.fr
SUMMARY:Fêtes de Pâques - Courses cyclistes du Comité des Fêtes
DESCRIPTION:Le Comité des Fêtes de Louisfert organise sa traditionnelle Fête de Pâques les samedi 04 avril – dimanche 05 avril et lundi 06 avril 2026\,\nvenez nombreux encourager les coureurs cyclistes et pédestre\, visitez le vide-grenier et découvrir les sentiers de Louisfert avec les randos. \nhttps://www.louisfert.fr/fete-de-paques/ \nDes perturbations de la circulation et du stationnement auront lieu tout le week-end des festivités sur le circuit des courses et dans le bourg : \nTexte \nPlan du sens de circulation pendant les courses cyclistes : \nPlan de circulation circuit courses cyclistes \nPlan de circulation centre bourg \nPlans des circuits – course pédestre 9 et 15 kms \nArrêtés municipaux : \nArrêté – municipaux – Fête de Pâques 2026 \n 
URL:https://www.louisfert.fr/evenement/fetes-de-paques/
END:VEVENT
BEGIN:VEVENT
DTSTART;VALUE=DATE:20260406
DTEND;VALUE=DATE:20260407
DTSTAMP:20260424T073531
CREATED:20220803T134639Z
LAST-MODIFIED:20260401T143750Z
UID:2383-1775433600-1775519999@www.louisfert.fr
SUMMARY:Collecte des ordures ménagères
DESCRIPTION:En raison du caractère férié du lundi 06 avril 2026\, la collecte des ordures ménagères est modifiée : \nOM – Lundi de Pâques
URL:https://www.louisfert.fr/evenement/reunion-dechange-sur-le-rapport-dactivites-de-la-cccd/
END:VEVENT
BEGIN:VEVENT
DTSTART;TZID=Europe/Paris:20260413T000000
DTEND;TZID=Europe/Paris:20260424T235900
DTSTAMP:20260424T073531
CREATED:20220603T080041Z
LAST-MODIFIED:20260407T124102Z
UID:2094-1776038400-1777075140@www.louisfert.fr
SUMMARY:Travaux de voirie
DESCRIPTION:Vous trouverez ci-dessous des arrêtés de circulation : \nArrêté de circulation n°T-C-2026-03-107 pour la route départementale RD35 au niveau de la Forêt Pavée du MARDI 14 au MERCREDI 15 AVRIL 2026\, la circulation sera interdite 24h sur 24 : \nArrêté temporaire 14 et 15 avril 2026 \nArrêté de circulation n°T-C-2026-04-014 pour la route départementale RD46 au niveau de la rue de l’Espérance du LUNDI 13 au VENDREDI 17 AVRIL 2026 : \nArrêté temporaire du 13 au 17 avril 2026 \nArrêté de circulation n°T-C-2026-04-018 pour les routes départementales RD40 et RD 35 du LUNDI 20 au VENDREDI 24 AVRIL 2026 : \nArrêté temporaire du 20 au 24 avril 2026 \n 
URL:https://www.louisfert.fr/evenement/travaux-de-voirie/
END:VEVENT
BEGIN:VEVENT
DTSTART;VALUE=DATE:20260502
DTEND;VALUE=DATE:20260503
DTSTAMP:20260424T073531
CREATED:20211119T144924Z
LAST-MODIFIED:20260407T124208Z
UID:1776-1777680000-1777766399@www.louisfert.fr
SUMMARY:Collecte de papiers
DESCRIPTION:L’Amicale de l’Ecole Publique de Louisfert organise une collecte de papiers tous les 1er samedi de chaque mois de 10h à 12h\nau local (zone artisanale – 6 impasse des Houssines). \nApporter les papiers sans agrafes ni plastique ainsi que les instruments d’écriture.\nMerci de séparer les journaux des prospectus ou autre afin d’affiner le tri final.
URL:https://www.louisfert.fr/evenement/collectes-de-papiers/
END:VEVENT
END:VCALENDAR